BEGIN:VCALENDAR
VERSION:2.0
PRODID:-//Boardwalk Village - ECPv6.15.20//NONSGML v1.0//EN
CALSCALE:GREGORIAN
METHOD:PUBLISH
X-WR-CALNAME:Boardwalk Village
X-ORIGINAL-URL:https://boardwalkvillage.com
X-WR-CALDESC:Events for Boardwalk Village
REFRESH-INTERVAL;VALUE=DURATION:PT1H
X-Robots-Tag:noindex
X-PUBLISHED-TTL:PT1H
BEGIN:VTIMEZONE
TZID:America/New_York
BEGIN:DAYLIGHT
TZOFFSETFROM:-0500
TZOFFSETTO:-0400
TZNAME:EDT
DTSTART:20230312T070000
END:DAYLIGHT
BEGIN:STANDARD
TZOFFSETFROM:-0400
TZOFFSETTO:-0500
TZNAME:EST
DTSTART:20231105T060000
END:STANDARD
BEGIN:DAYLIGHT
TZOFFSETFROM:-0500
TZOFFSETTO:-0400
TZNAME:EDT
DTSTART:20240310T070000
END:DAYLIGHT
BEGIN:STANDARD
TZOFFSETFROM:-0400
TZOFFSETTO:-0500
TZNAME:EST
DTSTART:20241103T060000
END:STANDARD
BEGIN:DAYLIGHT
TZOFFSETFROM:-0500
TZOFFSETTO:-0400
TZNAME:EDT
DTSTART:20250309T070000
END:DAYLIGHT
BEGIN:STANDARD
TZOFFSETFROM:-0400
TZOFFSETTO:-0500
TZNAME:EST
DTSTART:20251102T060000
END:STANDARD
BEGIN:DAYLIGHT
TZOFFSETFROM:-0500
TZOFFSETTO:-0400
TZNAME:EDT
DTSTART:20260308T070000
END:DAYLIGHT
BEGIN:STANDARD
TZOFFSETFROM:-0400
TZOFFSETTO:-0500
TZNAME:EST
DTSTART:20261101T060000
END:STANDARD
END:VTIMEZONE
BEGIN:VEVENT
DTSTART;TZID=America/New_York:20251108T100000
DTEND;TZID=America/New_York:20251108T160000
DTSTAMP:20260423T194254
CREATED:20250825T225318Z
LAST-MODIFIED:20251108T070837Z
UID:22570-1762596000-1762617600@boardwalkvillage.com
SUMMARY:Mayberry Market Vintage Christmas
DESCRIPTION:🎄Mayberry Market: Vintage Christmas ✨Step into the holiday spirit with two magical days of shopping\, music\, and festive fun at the Auglaize County Fairgrounds. Browse 70+ small businesses offering home décor\, boutique clothing\, handmade goods\, vintage finds\, seasonal gifts\, and more. Enjoy live music\, food trucks\, and even a visit from Santa Claus and Bunzi the mini horse! \n🗓️ Dates & Times:Friday\, Nov. 7 | 5:00–9:00 PM (VIP Night $8)Saturday\, Nov. 8 | 10:00 AM–4:00 PM ($6) \n📍 Location: Auglaize County Fairgrounds\, 1001 Fairview Dr\, Wapakoneta\, OH🎟️ Tickets: Available at the door (VIP tickets on sale Sept. 15 – include perks like early entry\, swag bag\, drink ticket\, and re-entry Saturday) \n✨ Highlights:Exclusive VIP Night perks from every vendorLive holiday music both daysDelicious eats from local food trucksIndoor shopping with wide aisles (wheelchair & stroller accessible)Free parkingA perfect way to kick off the holiday season and shop local treasures! \nCLICK HERE TO LEARN MORE
URL:https://boardwalkvillage.com/tribe-event/mayberry-market-vintage-christmas-2/
LOCATION:1001 Fairview Dr\, Wapakoneta\, OH\, United States
GEO:40.582252;-84.152138
END:VEVENT
BEGIN:VEVENT
DTSTART;TZID=America/New_York:20251107T170000
DTEND;TZID=America/New_York:20251107T210000
DTSTAMP:20260423T194254
CREATED:20250825T225318Z
LAST-MODIFIED:20251107T070757Z
UID:22568-1762534800-1762549200@boardwalkvillage.com
SUMMARY:Mayberry Market Vintage Christmas
DESCRIPTION:🎄Mayberry Market: Vintage Christmas ✨Step into the holiday spirit with two magical days of shopping\, music\, and festive fun at the Auglaize County Fairgrounds. Browse 70+ small businesses offering home décor\, boutique clothing\, handmade goods\, vintage finds\, seasonal gifts\, and more. Enjoy live music\, food trucks\, and even a visit from Santa Claus and Bunzi the mini horse! \n🗓️ Dates & Times:Friday\, Nov. 7 | 5:00–9:00 PM (VIP Night $8)Saturday\, Nov. 8 | 10:00 AM–4:00 PM ($6) \n📍 Location: Auglaize County Fairgrounds\, 1001 Fairview Dr\, Wapakoneta\, OH🎟️ Tickets: Available at the door (VIP tickets on sale Sept. 15 – include perks like early entry\, swag bag\, drink ticket\, and re-entry Saturday) \n✨ Highlights:Exclusive VIP Night perks from every vendorLive holiday music both daysDelicious eats from local food trucksIndoor shopping with wide aisles (wheelchair & stroller accessible)Free parkingA perfect way to kick off the holiday season and shop local treasures! \nCLICK HERE TO LEARN MORE
URL:https://boardwalkvillage.com/tribe-event/mayberry-market-vintage-christmas/
LOCATION:1001 Fairview Dr\, Wapakoneta\, OH\, United States
GEO:40.582252;-84.152138
END:VEVENT
BEGIN:VEVENT
DTSTART;VALUE=DATE:20241101
DTEND;VALUE=DATE:20241103
DTSTAMP:20260423T194254
CREATED:20241023T151040Z
LAST-MODIFIED:20241102T163749Z
UID:18202-1730419200-1730591999@boardwalkvillage.com
SUMMARY:Holly Jolly Holiday Market
DESCRIPTION:Mayberry Market is hosting their 7th annual holiday market featuring 80+ small businesses and all of your Holiday goodness filling 3 barns. Enjoy live music\, food trucks\, drinks and DIY sessions!  \nFriday shopping – exclusive VIP tickets available for purchase.Saturday shopping – $6 presale or at the door. CLICK HERE TO BUY TICKETS \nLEARN MORE ABOUT THE EVENT
URL:https://boardwalkvillage.com/tribe-event/holly-jolly-holiday-market/
LOCATION:1001 Fairview Dr\, Wapakoneta\, OH\, United States
GEO:40.582252;-84.152138
END:VEVENT
END:VCALENDAR