BEGIN:VCALENDAR
VERSION:2.0
PRODID:-//Boardwalk Village - ECPv6.15.20//NONSGML v1.0//EN
CALSCALE:GREGORIAN
METHOD:PUBLISH
X-WR-CALNAME:Boardwalk Village
X-ORIGINAL-URL:https://boardwalkvillage.com
X-WR-CALDESC:Events for Boardwalk Village
REFRESH-INTERVAL;VALUE=DURATION:PT1H
X-Robots-Tag:noindex
X-PUBLISHED-TTL:PT1H
BEGIN:VTIMEZONE
TZID:America/New_York
BEGIN:DAYLIGHT
TZOFFSETFROM:-0500
TZOFFSETTO:-0400
TZNAME:EDT
DTSTART:20230312T070000
END:DAYLIGHT
BEGIN:STANDARD
TZOFFSETFROM:-0400
TZOFFSETTO:-0500
TZNAME:EST
DTSTART:20231105T060000
END:STANDARD
BEGIN:DAYLIGHT
TZOFFSETFROM:-0500
TZOFFSETTO:-0400
TZNAME:EDT
DTSTART:20240310T070000
END:DAYLIGHT
BEGIN:STANDARD
TZOFFSETFROM:-0400
TZOFFSETTO:-0500
TZNAME:EST
DTSTART:20241103T060000
END:STANDARD
BEGIN:DAYLIGHT
TZOFFSETFROM:-0500
TZOFFSETTO:-0400
TZNAME:EDT
DTSTART:20250309T070000
END:DAYLIGHT
BEGIN:STANDARD
TZOFFSETFROM:-0400
TZOFFSETTO:-0500
TZNAME:EST
DTSTART:20251102T060000
END:STANDARD
END:VTIMEZONE
BEGIN:VEVENT
DTSTART;TZID=America/New_York:20240928T180000
DTEND;TZID=America/New_York:20240928T220000
DTSTAMP:20260423T085958
CREATED:20240515T150855Z
LAST-MODIFIED:20240928T063800Z
UID:15713-1727546400-1727560800@boardwalkvillage.com
SUMMARY:Boardwalk Grill: Gabe Bailey & Rocksteady
DESCRIPTION:Gabe Bailey & Rocksteady is playing live at Boardwalk Grill on Saturday\, September 28th from 6-10 PM.
URL:https://boardwalkvillage.com/tribe-event/boardwalk-grill-gabe-bailey-2/
LOCATION:725 W Bank Rd\, Celina\, OH\, United States
CATEGORIES:Boardwalk Grill
GEO:40.556645;-84.628714
END:VEVENT
BEGIN:VEVENT
DTSTART;TZID=America/New_York:20240927T180000
DTEND;TZID=America/New_York:20240927T220000
DTSTAMP:20260423T085958
CREATED:20240515T150855Z
LAST-MODIFIED:20240927T063757Z
UID:15712-1727460000-1727474400@boardwalkvillage.com
SUMMARY:Boardwalk Grill: Tom Koenig
DESCRIPTION:Tom Koenig is playing live at Boardwalk Grill on Friday\, September 27th from 6-10 PM.
URL:https://boardwalkvillage.com/tribe-event/boardwalk-grill-tom-koenig-4/
LOCATION:725 W Bank Rd\, Celina\, OH\, United States
CATEGORIES:Boardwalk Grill
GEO:40.556645;-84.628714
END:VEVENT
BEGIN:VEVENT
DTSTART;TZID=America/New_York:20240921T180000
DTEND;TZID=America/New_York:20240921T220000
DTSTAMP:20260423T085958
CREATED:20240515T150855Z
LAST-MODIFIED:20240921T060802Z
UID:15711-1726941600-1726956000@boardwalkvillage.com
SUMMARY:Boardwalk Grill: Hammer Jockeys
DESCRIPTION:The Hammer Jockeys are playing live at Boardwalk Grill on Saturday\, September 21st from 6-10 PM.
URL:https://boardwalkvillage.com/tribe-event/boardwalk-grill-hammer-jockeys-2/
LOCATION:725 W Bank Rd\, Celina\, OH\, United States
CATEGORIES:Boardwalk Grill
GEO:40.556645;-84.628714
END:VEVENT
BEGIN:VEVENT
DTSTART;TZID=America/New_York:20240920T180000
DTEND;TZID=America/New_York:20240920T220000
DTSTAMP:20260423T085958
CREATED:20240515T150854Z
LAST-MODIFIED:20240920T060859Z
UID:15710-1726855200-1726869600@boardwalkvillage.com
SUMMARY:Boardwalk Grill: Conner Albers
DESCRIPTION:Conner Albers is playing live at Boardwalk Grill on Friday\, September 20th from 6-10 PM.
URL:https://boardwalkvillage.com/tribe-event/boardwalk-grill-conner-albers-4/
LOCATION:725 W Bank Rd\, Celina\, OH\, United States
CATEGORIES:Boardwalk Grill
GEO:40.556645;-84.628714
END:VEVENT
BEGIN:VEVENT
DTSTART;TZID=America/New_York:20240914T190000
DTEND;TZID=America/New_York:20240914T230000
DTSTAMP:20260423T085958
CREATED:20240515T150854Z
LAST-MODIFIED:20240819T223824Z
UID:15709-1726340400-1726354800@boardwalkvillage.com
SUMMARY:Boardwalk Grill: Shifferly Road
DESCRIPTION:Shifferly Road is playing live at Boardwalk Grill on Saturday\, September 14th from 7-11 PM.
URL:https://boardwalkvillage.com/tribe-event/boardwalk-grill-shifferly-road/
LOCATION:725 W Bank Rd\, Celina\, OH\, United States
CATEGORIES:Boardwalk Grill
GEO:40.556645;-84.628714
END:VEVENT
BEGIN:VEVENT
DTSTART;TZID=America/New_York:20240914T180000
DTEND;TZID=America/New_York:20240914T220000
DTSTAMP:20260423T085958
CREATED:20240911T235256Z
LAST-MODIFIED:20240914T235407Z
UID:17660-1726336800-1726351200@boardwalkvillage.com
SUMMARY:Boardwalk Grill: Someone's Kids
DESCRIPTION:Someone’s Kids are playing live at Boardwalk Grill on Saturday\, September 14th from 6-10 PM.
URL:https://boardwalkvillage.com/tribe-event/boardwalk-grill-someones-kids/
LOCATION:725 W Bank Rd\, Celina\, OH\, United States
CATEGORIES:Boardwalk Grill
GEO:40.556645;-84.628714
END:VEVENT
BEGIN:VEVENT
DTSTART;TZID=America/New_York:20240913T180000
DTEND;TZID=America/New_York:20240913T220000
DTSTAMP:20260423T085958
CREATED:20240515T150854Z
LAST-MODIFIED:20240913T235404Z
UID:15708-1726250400-1726264800@boardwalkvillage.com
SUMMARY:Boardwalk Grill: The Western Allies
DESCRIPTION:The Western Allies are playing live at Boardwalk Grill on Friday\, September 13th from 6-10 PM.
URL:https://boardwalkvillage.com/tribe-event/boardwalk-grill-the-growlers-2/
LOCATION:725 W Bank Rd\, Celina\, OH\, United States
CATEGORIES:Boardwalk Grill
GEO:40.556645;-84.628714
END:VEVENT
BEGIN:VEVENT
DTSTART;TZID=America/New_York:20240907T190000
DTEND;TZID=America/New_York:20240907T230000
DTSTAMP:20260423T085958
CREATED:20240515T150854Z
LAST-MODIFIED:20240907T232355Z
UID:15707-1725735600-1725750000@boardwalkvillage.com
SUMMARY:Boardwalk Grill: Karma's Pawn
DESCRIPTION:Karma’s Pawn is playing live at Boardwalk Grill on Saturday\, September 7th from 7-11 PM.
URL:https://boardwalkvillage.com/tribe-event/boardwalk-grill-karmas-pawn-2/
LOCATION:725 W Bank Rd\, Celina\, OH\, United States
CATEGORIES:Boardwalk Grill
GEO:40.556645;-84.628714
END:VEVENT
BEGIN:VEVENT
DTSTART;TZID=America/New_York:20240906T190000
DTEND;TZID=America/New_York:20240906T230000
DTSTAMP:20260423T085958
CREATED:20240514T150918Z
LAST-MODIFIED:20240906T232305Z
UID:15572-1725649200-1725663600@boardwalkvillage.com
SUMMARY:Boardwalk Grill: Scott Sopata
DESCRIPTION:Scott Sopata is playing live at Boardwalk Grill on Friday\, September 6th from 7-11 PM.
URL:https://boardwalkvillage.com/tribe-event/boardwalk-grill-scott-sopata-3/
LOCATION:725 W Bank Rd\, Celina\, OH\, United States
CATEGORIES:Boardwalk Grill
GEO:40.556645;-84.628714
END:VEVENT
BEGIN:VEVENT
DTSTART;TZID=America/New_York:20240902T130000
DTEND;TZID=America/New_York:20240902T170000
DTSTAMP:20260423T085958
CREATED:20240514T150918Z
LAST-MODIFIED:20240901T230804Z
UID:15571-1725282000-1725296400@boardwalkvillage.com
SUMMARY:Boardwalk Grill: Honey Compass
DESCRIPTION:Honey Compass is playing live at Boardwalk Grill on Monday\, September 2nd from 1-5 PM.
URL:https://boardwalkvillage.com/tribe-event/boardwalk-grill-honey-compass/
LOCATION:725 W Bank Rd\, Celina\, OH\, United States
CATEGORIES:Boardwalk Grill
GEO:40.556645;-84.628714
END:VEVENT
BEGIN:VEVENT
DTSTART;TZID=America/New_York:20240901T190000
DTEND;TZID=America/New_York:20240901T230000
DTSTAMP:20260423T085958
CREATED:20240514T150918Z
LAST-MODIFIED:20240901T230804Z
UID:15570-1725217200-1725231600@boardwalkvillage.com
SUMMARY:Boardwalk Grill: Kevin and the Others
DESCRIPTION:Kevin and the Others is playing live at Boardwalk Grill on Sunday\, September 1st from 7-11 PM.
URL:https://boardwalkvillage.com/tribe-event/boardwalk-grill-kato/
LOCATION:725 W Bank Rd\, Celina\, OH\, United States
CATEGORIES:Boardwalk Grill
GEO:40.556645;-84.628714
END:VEVENT
BEGIN:VEVENT
DTSTART;TZID=America/New_York:20240901T120000
DTEND;TZID=America/New_York:20240901T160000
DTSTAMP:20260423T085958
CREATED:20240514T150918Z
LAST-MODIFIED:20240831T225352Z
UID:15569-1725192000-1725206400@boardwalkvillage.com
SUMMARY:Boardwalk Grill: Kennedy & Josh Acoustic
DESCRIPTION:Kennedy & Josh Acoustic are playing at Boardwalk Grill on Sunday\, September 1st from 12-4 PM.
URL:https://boardwalkvillage.com/tribe-event/boardwalk-grill-kennedy-josh-acoustic-2/
LOCATION:725 W Bank Rd\, Celina\, OH\, United States
CATEGORIES:Boardwalk Grill
GEO:40.556645;-84.628714
END:VEVENT
BEGIN:VEVENT
DTSTART;TZID=America/New_York:20240831T190000
DTEND;TZID=America/New_York:20240831T230000
DTSTAMP:20260423T085958
CREATED:20240514T150918Z
LAST-MODIFIED:20240831T225352Z
UID:15568-1725130800-1725145200@boardwalkvillage.com
SUMMARY:Boardwalk Grill: Green Sands
DESCRIPTION:Green Sands is playing live at Boardwalk Grill on Saturday\, August 31st from 7-11 PM.
URL:https://boardwalkvillage.com/tribe-event/boardwalk-grill-green-sands/
LOCATION:725 W Bank Rd\, Celina\, OH\, United States
CATEGORIES:Boardwalk Grill
GEO:40.556645;-84.628714
END:VEVENT
BEGIN:VEVENT
DTSTART;TZID=America/New_York:20240831T130000
DTEND;TZID=America/New_York:20240831T170000
DTSTAMP:20260423T085958
CREATED:20240514T150917Z
LAST-MODIFIED:20240830T225257Z
UID:15567-1725109200-1725123600@boardwalkvillage.com
SUMMARY:Boardwalk Grill: Steve Rosenbeck & Rick Heyne
DESCRIPTION:Steve Rosenbeck & Rick Heyne are playing live at Boardwalk Grill on Saturday\, August 31st from 1-5 PM.
URL:https://boardwalkvillage.com/tribe-event/boardwalk-grill-steve-rosenbeck-rick-heyne-2/
LOCATION:725 W Bank Rd\, Celina\, OH\, United States
CATEGORIES:Boardwalk Grill
GEO:40.556645;-84.628714
END:VEVENT
BEGIN:VEVENT
DTSTART;TZID=America/New_York:20240830T190000
DTEND;TZID=America/New_York:20240830T230000
DTSTAMP:20260423T085958
CREATED:20240514T150917Z
LAST-MODIFIED:20240830T225257Z
UID:15566-1725044400-1725058800@boardwalkvillage.com
SUMMARY:Boardwalk Grill: Island Vibe
DESCRIPTION:Island Vibe is playing live at Boardwalk Grill on Friday\, August 30th from 7-11 PM.
URL:https://boardwalkvillage.com/tribe-event/boardwalk-grill-island-vibe-3/
LOCATION:725 W Bank Rd\, Celina\, OH\, United States
CATEGORIES:Boardwalk Grill
GEO:40.556645;-84.628714
END:VEVENT
BEGIN:VEVENT
DTSTART;TZID=America/New_York:20240825T140000
DTEND;TZID=America/New_York:20240825T180000
DTSTAMP:20260423T085958
CREATED:20240514T150917Z
LAST-MODIFIED:20240824T223825Z
UID:15565-1724594400-1724608800@boardwalkvillage.com
SUMMARY:Boardwalk Grill: Kennedy & Josh Acoustic
DESCRIPTION:Kennedy & Josh Acoustic are playing live at Boardwalk Grill on Sunday\, August 25th from 2-6 PM.
URL:https://boardwalkvillage.com/tribe-event/boardwalk-grill-kennedy-josh-acoustic/
LOCATION:725 W Bank Rd\, Celina\, OH\, United States
CATEGORIES:Boardwalk Grill
GEO:40.556645;-84.628714
END:VEVENT
BEGIN:VEVENT
DTSTART;TZID=America/New_York:20240824T190000
DTEND;TZID=America/New_York:20240824T230000
DTSTAMP:20260423T085958
CREATED:20240514T150917Z
LAST-MODIFIED:20240824T223825Z
UID:15564-1724526000-1724540400@boardwalkvillage.com
SUMMARY:Boardwalk Grill: Fairly Local
DESCRIPTION:Fairly Local is playing live at Boardwalk Grill on Saturday\, 24th from 7-11 PM.
URL:https://boardwalkvillage.com/tribe-event/boardwalk-grill-fairly-local-2/
LOCATION:725 W Bank Rd\, Celina\, OH\, United States
CATEGORIES:Boardwalk Grill
GEO:40.556645;-84.628714
END:VEVENT
BEGIN:VEVENT
DTSTART;TZID=America/New_York:20240824T130000
DTEND;TZID=America/New_York:20240824T170000
DTSTAMP:20260423T085958
CREATED:20240514T150916Z
LAST-MODIFIED:20240823T223822Z
UID:15563-1724504400-1724518800@boardwalkvillage.com
SUMMARY:Boardwalk Grill: Jenn Shook Trio
DESCRIPTION:Jenn Shook Trio is playing at Boardwalk Grill on Saturday\, August 24th from 1-5 PM.
URL:https://boardwalkvillage.com/tribe-event/boardwalk-grill-trio/
LOCATION:725 W Bank Rd\, Celina\, OH\, United States
CATEGORIES:Boardwalk Grill
GEO:40.556645;-84.628714
END:VEVENT
BEGIN:VEVENT
DTSTART;TZID=America/New_York:20240823T190000
DTEND;TZID=America/New_York:20240823T230000
DTSTAMP:20260423T085958
CREATED:20240514T150916Z
LAST-MODIFIED:20240823T223821Z
UID:15562-1724439600-1724454000@boardwalkvillage.com
SUMMARY:Boardwalk Grill: Nawty Dawg
DESCRIPTION:Nawty Dawg is playing live at Boardwalk Grill on Friday\, August 23 from 7-11 PM.
URL:https://boardwalkvillage.com/tribe-event/boardwalk-grill-nawty-dawg/
LOCATION:725 W Bank Rd\, Celina\, OH\, United States
CATEGORIES:Boardwalk Grill
GEO:40.556645;-84.628714
END:VEVENT
BEGIN:VEVENT
DTSTART;TZID=America/New_York:20240818T140000
DTEND;TZID=America/New_York:20240818T180000
DTSTAMP:20260423T085958
CREATED:20240514T150916Z
LAST-MODIFIED:20240817T222408Z
UID:15561-1723989600-1724004000@boardwalkvillage.com
SUMMARY:Boardwalk Grill: Rick Heyne & Roger DeMange
DESCRIPTION:Rick Heyne & Roger DeMange are playing live at Boardwalk on Sunday\, August 18th from 2-6 PM.
URL:https://boardwalkvillage.com/tribe-event/boardwalk-grill-rick-heyne-roger-demange/
LOCATION:725 W Bank Rd\, Celina\, OH\, United States
CATEGORIES:Boardwalk Grill
GEO:40.556645;-84.628714
END:VEVENT
BEGIN:VEVENT
DTSTART;TZID=America/New_York:20240817T190000
DTEND;TZID=America/New_York:20240817T230000
DTSTAMP:20260423T085958
CREATED:20240514T150916Z
LAST-MODIFIED:20240817T222407Z
UID:15558-1723921200-1723935600@boardwalkvillage.com
SUMMARY:Boardwalk Grill: Haywired
DESCRIPTION:Haywired is playing live at Boardwalk Grill on Saturday\, August 17th from 7-11 PM.
URL:https://boardwalkvillage.com/tribe-event/boardwalk-grill-haywired/
LOCATION:725 W Bank Rd\, Celina\, OH\, United States
CATEGORIES:Boardwalk Grill
GEO:40.556645;-84.628714
END:VEVENT
BEGIN:VEVENT
DTSTART;TZID=America/New_York:20240817T130000
DTEND;TZID=America/New_York:20240817T170000
DTSTAMP:20260423T085958
CREATED:20240514T150916Z
LAST-MODIFIED:20240816T222329Z
UID:15557-1723899600-1723914000@boardwalkvillage.com
SUMMARY:Boardwalk Grill: Jeff & Hannah Acoustic
DESCRIPTION:Jeff & Hannah Acoustic are playing live at Boardwalk Grill on Saturday\, August 17th from 1-5 PM.
URL:https://boardwalkvillage.com/tribe-event/boardwalk-grill-jeff-hannah-acoustic/
LOCATION:725 W Bank Rd\, Celina\, OH\, United States
CATEGORIES:Boardwalk Grill
GEO:40.556645;-84.628714
END:VEVENT
BEGIN:VEVENT
DTSTART;TZID=America/New_York:20240816T190000
DTEND;TZID=America/New_York:20240816T230000
DTSTAMP:20260423T085958
CREATED:20240514T150915Z
LAST-MODIFIED:20240816T222328Z
UID:15556-1723834800-1723849200@boardwalkvillage.com
SUMMARY:Boardwalk Grill: Conner Albers
DESCRIPTION:Conner Albers is playing live at Boardwalk Grill on Friday\, August 16th from 7-11 PM.
URL:https://boardwalkvillage.com/tribe-event/boardwalk-grill-conner-albers-3/
LOCATION:725 W Bank Rd\, Celina\, OH\, United States
CATEGORIES:Boardwalk Grill
GEO:40.556645;-84.628714
END:VEVENT
BEGIN:VEVENT
DTSTART;TZID=America/New_York:20240811T140000
DTEND;TZID=America/New_York:20240811T180000
DTSTAMP:20260423T085958
CREATED:20240514T150915Z
LAST-MODIFIED:20240810T220755Z
UID:15555-1723384800-1723399200@boardwalkvillage.com
SUMMARY:Boardwalk Grill: Tom Koenig
DESCRIPTION:Tom Koenig is playing live at Boardwalk Grill on Sunday\, August 11th from 2-6 PM.
URL:https://boardwalkvillage.com/tribe-event/boardwalk-grill-tom-koenig-3/
LOCATION:725 W Bank Rd\, Celina\, OH\, United States
CATEGORIES:Boardwalk Grill
GEO:40.556645;-84.628714
END:VEVENT
BEGIN:VEVENT
DTSTART;TZID=America/New_York:20240810T190000
DTEND;TZID=America/New_York:20240810T230000
DTSTAMP:20260423T085958
CREATED:20240514T150915Z
LAST-MODIFIED:20240810T220754Z
UID:15554-1723316400-1723330800@boardwalkvillage.com
SUMMARY:Boardwalk Grill: My Cousin Eddie
DESCRIPTION:My Cousin Eddie is playing live at Boardwalk Grill on Saturday\, August 10th from 7-11 PM.
URL:https://boardwalkvillage.com/tribe-event/boardwalk-grill-my-cousin-eddie-2/
LOCATION:725 W Bank Rd\, Celina\, OH\, United States
CATEGORIES:Boardwalk Grill
GEO:40.556645;-84.628714
END:VEVENT
BEGIN:VEVENT
DTSTART;TZID=America/New_York:20240810T130000
DTEND;TZID=America/New_York:20240810T170000
DTSTAMP:20260423T085958
CREATED:20240514T150915Z
LAST-MODIFIED:20240809T220810Z
UID:15553-1723294800-1723309200@boardwalkvillage.com
SUMMARY:Boardwalk Grill: Zach Rosenbeck
DESCRIPTION:Zach Rosenbeck is playing live from Boardwalk Grill on Saturday\, August 10th from 1-5 PM.
URL:https://boardwalkvillage.com/tribe-event/boardwalk-grill-zach-rosenbeck/
LOCATION:725 W Bank Rd\, Celina\, OH\, United States
CATEGORIES:Boardwalk Grill
GEO:40.556645;-84.628714
END:VEVENT
BEGIN:VEVENT
DTSTART;TZID=America/New_York:20240809T190000
DTEND;TZID=America/New_York:20240809T230000
DTSTAMP:20260423T085958
CREATED:20240514T150914Z
LAST-MODIFIED:20240809T220810Z
UID:15552-1723230000-1723244400@boardwalkvillage.com
SUMMARY:Boardwalk Grill: Chasing Denver
DESCRIPTION:Chasing Denver is playing live at Boardwalk Grill on Friday\, August 9th from 7-11 PM.
URL:https://boardwalkvillage.com/tribe-event/boardwalk-grill-chasing-denver/
LOCATION:725 W Bank Rd\, Celina\, OH\, United States
CATEGORIES:Boardwalk Grill
GEO:40.556645;-84.628714
END:VEVENT
BEGIN:VEVENT
DTSTART;TZID=America/New_York:20240804T140000
DTEND;TZID=America/New_York:20240804T180000
DTSTAMP:20260423T085958
CREATED:20240514T150914Z
LAST-MODIFIED:20240804T215308Z
UID:15551-1722780000-1722794400@boardwalkvillage.com
SUMMARY:Boardwalk Grill: The SunBurners Trio
DESCRIPTION:The SunBurners Trio is playing live at Boardwalk Grill on Sunday\, August 4th from 2-6 PM.
URL:https://boardwalkvillage.com/tribe-event/boardwalk-grill-the-sunbruners-trio-2/
LOCATION:725 W Bank Rd\, Celina\, OH\, United States
CATEGORIES:Boardwalk Grill
GEO:40.556645;-84.628714
END:VEVENT
BEGIN:VEVENT
DTSTART;TZID=America/New_York:20240803T190000
DTEND;TZID=America/New_York:20240803T230000
DTSTAMP:20260423T085958
CREATED:20240514T150913Z
LAST-MODIFIED:20240803T213751Z
UID:15550-1722711600-1722726000@boardwalkvillage.com
SUMMARY:Boardwalk Grill: 10 Year Reign
DESCRIPTION:10 Year Reign is playing live at Boardwalk Grill on Saturday\, August 3rd from 7-11 PM.
URL:https://boardwalkvillage.com/tribe-event/boardwalk-grill-10-year-reign/
LOCATION:725 W Bank Rd\, Celina\, OH\, United States
CATEGORIES:Boardwalk Grill
GEO:40.556645;-84.628714
END:VEVENT
BEGIN:VEVENT
DTSTART;TZID=America/New_York:20240803T130000
DTEND;TZID=America/New_York:20240803T170000
DTSTAMP:20260423T085958
CREATED:20240514T150913Z
LAST-MODIFIED:20240802T213821Z
UID:15549-1722690000-1722704400@boardwalkvillage.com
SUMMARY:Boardwalk Grill: Brandt Carmichael
DESCRIPTION:Brandt Carmichael is playing live at Boardwalk Grill on Saturday\, August 3rd from 1-5 PM.
URL:https://boardwalkvillage.com/tribe-event/boardwalk-grill-brandt-carmichael/
LOCATION:725 W Bank Rd\, Celina\, OH\, United States
CATEGORIES:Boardwalk Grill
GEO:40.556645;-84.628714
END:VEVENT
END:VCALENDAR