BEGIN:VCALENDAR
VERSION:2.0
PRODID:-//Boardwalk Village - ECPv6.15.20//NONSGML v1.0//EN
CALSCALE:GREGORIAN
METHOD:PUBLISH
X-ORIGINAL-URL:https://boardwalkvillage.com
X-WR-CALDESC:Events for Boardwalk Village
REFRESH-INTERVAL;VALUE=DURATION:PT1H
X-Robots-Tag:noindex
X-PUBLISHED-TTL:PT1H
BEGIN:VTIMEZONE
TZID:America/New_York
BEGIN:DAYLIGHT
TZOFFSETFROM:-0500
TZOFFSETTO:-0400
TZNAME:EDT
DTSTART:20250309T070000
END:DAYLIGHT
BEGIN:STANDARD
TZOFFSETFROM:-0400
TZOFFSETTO:-0500
TZNAME:EST
DTSTART:20251102T060000
END:STANDARD
BEGIN:DAYLIGHT
TZOFFSETFROM:-0500
TZOFFSETTO:-0400
TZNAME:EDT
DTSTART:20260308T070000
END:DAYLIGHT
BEGIN:STANDARD
TZOFFSETFROM:-0400
TZOFFSETTO:-0500
TZNAME:EST
DTSTART:20261101T060000
END:STANDARD
BEGIN:DAYLIGHT
TZOFFSETFROM:-0500
TZOFFSETTO:-0400
TZNAME:EDT
DTSTART:20270314T070000
END:DAYLIGHT
BEGIN:STANDARD
TZOFFSETFROM:-0400
TZOFFSETTO:-0500
TZNAME:EST
DTSTART:20271107T060000
END:STANDARD
END:VTIMEZONE
BEGIN:VEVENT
DTSTART;TZID=America/New_York:20260424T190000
DTEND;TZID=America/New_York:20260424T230000
DTSTAMP:20260421T043533
CREATED:20260323T210758Z
LAST-MODIFIED:20260420T220757Z
UID:25425-1777057200-1777071600@boardwalkvillage.com
SUMMARY:Live Music: Jon Ranly
DESCRIPTION:CLICK TO LEARN MORE
URL:https://boardwalkvillage.com/tribe-event/live-music-jon-ranly-4/
LOCATION:Boardwalk Grill\, 901 W Bank Rd\, Celina\, OH\, United States
CATEGORIES:Boardwalk Grill
GEO:40.542642;-84.571525
X-APPLE-STRUCTURED-LOCATION;VALUE=URI;X-ADDRESS=Boardwalk Grill 901 W Bank Rd Celina OH United States;X-APPLE-RADIUS=500;X-TITLE=901 W Bank Rd:geo:-84.571525,40.542642
END:VEVENT
BEGIN:VEVENT
DTSTART;TZID=America/New_York:20260425T190000
DTEND;TZID=America/New_York:20260425T220000
DTSTAMP:20260421T043533
CREATED:20260323T210800Z
LAST-MODIFIED:20260420T220758Z
UID:25434-1777143600-1777154400@boardwalkvillage.com
SUMMARY:Live Music: DeMange Brothers
DESCRIPTION:CLICK TO LEARN MORE
URL:https://boardwalkvillage.com/tribe-event/live-music-demange-brothers-5/
LOCATION:Boardwalk Grill\, 901 W Bank Rd\, Celina\, OH\, United States
CATEGORIES:Boardwalk Grill
GEO:40.542642;-84.571525
X-APPLE-STRUCTURED-LOCATION;VALUE=URI;X-ADDRESS=Boardwalk Grill 901 W Bank Rd Celina OH United States;X-APPLE-RADIUS=500;X-TITLE=901 W Bank Rd:geo:-84.571525,40.542642
END:VEVENT
BEGIN:VEVENT
DTSTART;TZID=America/New_York:20260501T190000
DTEND;TZID=America/New_York:20260501T230000
DTSTAMP:20260421T043533
CREATED:20260128T170851Z
LAST-MODIFIED:20260420T220758Z
UID:24588-1777662000-1777676400@boardwalkvillage.com
SUMMARY:Live Music:
DESCRIPTION:CLICK TO LEARN MORE
URL:https://boardwalkvillage.com/tribe-event/live-music-8/
LOCATION:Boardwalk Grill\, 901 W Bank Rd\, Celina\, OH\, United States
CATEGORIES:Boardwalk Grill
GEO:40.542642;-84.571525
X-APPLE-STRUCTURED-LOCATION;VALUE=URI;X-ADDRESS=Boardwalk Grill 901 W Bank Rd Celina OH United States;X-APPLE-RADIUS=500;X-TITLE=901 W Bank Rd:geo:-84.571525,40.542642
END:VEVENT
BEGIN:VEVENT
DTSTART;TZID=America/New_York:20260502T130000
DTEND;TZID=America/New_York:20260502T170000
DTSTAMP:20260421T043533
CREATED:20260128T170851Z
LAST-MODIFIED:20260420T220758Z
UID:24589-1777726800-1777741200@boardwalkvillage.com
SUMMARY:Live Music:
DESCRIPTION:CLICK TO LEARN MORE
URL:https://boardwalkvillage.com/tribe-event/live-music-9/
LOCATION:Boardwalk Grill\, 901 W Bank Rd\, Celina\, OH\, United States
CATEGORIES:Boardwalk Grill
GEO:40.542642;-84.571525
X-APPLE-STRUCTURED-LOCATION;VALUE=URI;X-ADDRESS=Boardwalk Grill 901 W Bank Rd Celina OH United States;X-APPLE-RADIUS=500;X-TITLE=901 W Bank Rd:geo:-84.571525,40.542642
END:VEVENT
BEGIN:VEVENT
DTSTART;TZID=America/New_York:20260502T190000
DTEND;TZID=America/New_York:20260502T230000
DTSTAMP:20260421T043533
CREATED:20260128T170851Z
LAST-MODIFIED:20260420T220758Z
UID:24590-1777748400-1777762800@boardwalkvillage.com
SUMMARY:Live Music:
DESCRIPTION:CLICK TO LEARN MORE
URL:https://boardwalkvillage.com/tribe-event/live-music-10/
LOCATION:Boardwalk Grill\, 901 W Bank Rd\, Celina\, OH\, United States
CATEGORIES:Boardwalk Grill
GEO:40.542642;-84.571525
X-APPLE-STRUCTURED-LOCATION;VALUE=URI;X-ADDRESS=Boardwalk Grill 901 W Bank Rd Celina OH United States;X-APPLE-RADIUS=500;X-TITLE=901 W Bank Rd:geo:-84.571525,40.542642
END:VEVENT
BEGIN:VEVENT
DTSTART;TZID=America/New_York:20260503T140000
DTEND;TZID=America/New_York:20260503T180000
DTSTAMP:20260421T043533
CREATED:20260128T170851Z
LAST-MODIFIED:20260420T220758Z
UID:24591-1777816800-1777831200@boardwalkvillage.com
SUMMARY:Live Music:
DESCRIPTION:CLICK TO LEARN MORE
URL:https://boardwalkvillage.com/tribe-event/live-music-11/
LOCATION:Boardwalk Grill\, 901 W Bank Rd\, Celina\, OH\, United States
CATEGORIES:Boardwalk Grill
GEO:40.542642;-84.571525
X-APPLE-STRUCTURED-LOCATION;VALUE=URI;X-ADDRESS=Boardwalk Grill 901 W Bank Rd Celina OH United States;X-APPLE-RADIUS=500;X-TITLE=901 W Bank Rd:geo:-84.571525,40.542642
END:VEVENT
BEGIN:VEVENT
DTSTART;TZID=America/New_York:20260508T190000
DTEND;TZID=America/New_York:20260508T230000
DTSTAMP:20260421T043533
CREATED:20260128T170852Z
LAST-MODIFIED:20260420T220759Z
UID:24592-1778266800-1778281200@boardwalkvillage.com
SUMMARY:Live Music:
DESCRIPTION:CLICK TO LEARN MORE
URL:https://boardwalkvillage.com/tribe-event/live-music-12/
LOCATION:Boardwalk Grill\, 901 W Bank Rd\, Celina\, OH\, United States
CATEGORIES:Boardwalk Grill
GEO:40.542642;-84.571525
X-APPLE-STRUCTURED-LOCATION;VALUE=URI;X-ADDRESS=Boardwalk Grill 901 W Bank Rd Celina OH United States;X-APPLE-RADIUS=500;X-TITLE=901 W Bank Rd:geo:-84.571525,40.542642
END:VEVENT
BEGIN:VEVENT
DTSTART;TZID=America/New_York:20260509T130000
DTEND;TZID=America/New_York:20260509T170000
DTSTAMP:20260421T043533
CREATED:20260128T170852Z
LAST-MODIFIED:20260420T220759Z
UID:24593-1778331600-1778346000@boardwalkvillage.com
SUMMARY:Live Music:
DESCRIPTION:CLICK TO LEARN MORE
URL:https://boardwalkvillage.com/tribe-event/live-music-13/
LOCATION:Boardwalk Grill\, 901 W Bank Rd\, Celina\, OH\, United States
CATEGORIES:Boardwalk Grill
GEO:40.542642;-84.571525
X-APPLE-STRUCTURED-LOCATION;VALUE=URI;X-ADDRESS=Boardwalk Grill 901 W Bank Rd Celina OH United States;X-APPLE-RADIUS=500;X-TITLE=901 W Bank Rd:geo:-84.571525,40.542642
END:VEVENT
BEGIN:VEVENT
DTSTART;TZID=America/New_York:20260509T190000
DTEND;TZID=America/New_York:20260509T230000
DTSTAMP:20260421T043533
CREATED:20260128T170852Z
LAST-MODIFIED:20260420T220759Z
UID:24594-1778353200-1778367600@boardwalkvillage.com
SUMMARY:Live Music:
DESCRIPTION:CLICK TO LEARN MORE
URL:https://boardwalkvillage.com/tribe-event/live-music-14/
LOCATION:Boardwalk Grill\, 901 W Bank Rd\, Celina\, OH\, United States
CATEGORIES:Boardwalk Grill
GEO:40.542642;-84.571525
X-APPLE-STRUCTURED-LOCATION;VALUE=URI;X-ADDRESS=Boardwalk Grill 901 W Bank Rd Celina OH United States;X-APPLE-RADIUS=500;X-TITLE=901 W Bank Rd:geo:-84.571525,40.542642
END:VEVENT
BEGIN:VEVENT
DTSTART;TZID=America/New_York:20260510T140000
DTEND;TZID=America/New_York:20260510T180000
DTSTAMP:20260421T043533
CREATED:20260128T170853Z
LAST-MODIFIED:20260420T220759Z
UID:24595-1778421600-1778436000@boardwalkvillage.com
SUMMARY:Live Music:
DESCRIPTION:CLICK TO LEARN MORE
URL:https://boardwalkvillage.com/tribe-event/live-music-15/
LOCATION:Boardwalk Grill\, 901 W Bank Rd\, Celina\, OH\, United States
CATEGORIES:Boardwalk Grill
GEO:40.542642;-84.571525
X-APPLE-STRUCTURED-LOCATION;VALUE=URI;X-ADDRESS=Boardwalk Grill 901 W Bank Rd Celina OH United States;X-APPLE-RADIUS=500;X-TITLE=901 W Bank Rd:geo:-84.571525,40.542642
END:VEVENT
BEGIN:VEVENT
DTSTART;TZID=America/New_York:20260514T190000
DTEND;TZID=America/New_York:20260514T220000
DTSTAMP:20260421T043533
CREATED:20260202T173808Z
LAST-MODIFIED:20260420T220807Z
UID:24879-1778785200-1778796000@boardwalkvillage.com
SUMMARY:Boardwalk Grill: Karaoke
DESCRIPTION:Karaoke in the Boardwalk Grill Tent with DJ Terence. Pick your favorite song and get ready to sing your heart out! \nCLICK HERE FOR MORE INFORMATION
URL:https://boardwalkvillage.com/tribe-event/boardwalk-grill-karaoke-22/
LOCATION:Boardwalk Grill\, 901 W Bank Rd\, Celina\, OH\, United States
CATEGORIES:Boardwalk Grill
GEO:40.542642;-84.571525
X-APPLE-STRUCTURED-LOCATION;VALUE=URI;X-ADDRESS=Boardwalk Grill 901 W Bank Rd Celina OH United States;X-APPLE-RADIUS=500;X-TITLE=901 W Bank Rd:geo:-84.571525,40.542642
END:VEVENT
BEGIN:VEVENT
DTSTART;TZID=America/New_York:20260515T190000
DTEND;TZID=America/New_York:20260515T230000
DTSTAMP:20260421T043533
CREATED:20260128T170853Z
LAST-MODIFIED:20260420T220808Z
UID:24596-1778871600-1778886000@boardwalkvillage.com
SUMMARY:Live Music:
DESCRIPTION:CLICK TO LEARN MORE
URL:https://boardwalkvillage.com/tribe-event/live-music-16/
LOCATION:Boardwalk Grill\, 901 W Bank Rd\, Celina\, OH\, United States
CATEGORIES:Boardwalk Grill
GEO:40.542642;-84.571525
X-APPLE-STRUCTURED-LOCATION;VALUE=URI;X-ADDRESS=Boardwalk Grill 901 W Bank Rd Celina OH United States;X-APPLE-RADIUS=500;X-TITLE=901 W Bank Rd:geo:-84.571525,40.542642
END:VEVENT
BEGIN:VEVENT
DTSTART;TZID=America/New_York:20260516T130000
DTEND;TZID=America/New_York:20260516T170000
DTSTAMP:20260421T043533
CREATED:20260128T170854Z
LAST-MODIFIED:20260420T220808Z
UID:24597-1778936400-1778950800@boardwalkvillage.com
SUMMARY:Live Music:
DESCRIPTION:CLICK TO LEARN MORE
URL:https://boardwalkvillage.com/tribe-event/live-music-17/
LOCATION:Boardwalk Grill\, 901 W Bank Rd\, Celina\, OH\, United States
CATEGORIES:Boardwalk Grill
GEO:40.542642;-84.571525
X-APPLE-STRUCTURED-LOCATION;VALUE=URI;X-ADDRESS=Boardwalk Grill 901 W Bank Rd Celina OH United States;X-APPLE-RADIUS=500;X-TITLE=901 W Bank Rd:geo:-84.571525,40.542642
END:VEVENT
BEGIN:VEVENT
DTSTART;TZID=America/New_York:20260516T190000
DTEND;TZID=America/New_York:20260516T230000
DTSTAMP:20260421T043533
CREATED:20260128T170854Z
LAST-MODIFIED:20260420T220808Z
UID:24598-1778958000-1778972400@boardwalkvillage.com
SUMMARY:Live Music:
DESCRIPTION:CLICK TO LEARN MORE
URL:https://boardwalkvillage.com/tribe-event/live-music-18/
LOCATION:Boardwalk Grill\, 901 W Bank Rd\, Celina\, OH\, United States
CATEGORIES:Boardwalk Grill
GEO:40.542642;-84.571525
X-APPLE-STRUCTURED-LOCATION;VALUE=URI;X-ADDRESS=Boardwalk Grill 901 W Bank Rd Celina OH United States;X-APPLE-RADIUS=500;X-TITLE=901 W Bank Rd:geo:-84.571525,40.542642
END:VEVENT
BEGIN:VEVENT
DTSTART;TZID=America/New_York:20260517T140000
DTEND;TZID=America/New_York:20260517T180000
DTSTAMP:20260421T043533
CREATED:20260128T170854Z
LAST-MODIFIED:20260420T220808Z
UID:24599-1779026400-1779040800@boardwalkvillage.com
SUMMARY:Live Music:
DESCRIPTION:CLICK TO LEARN MORE
URL:https://boardwalkvillage.com/tribe-event/live-music-19/
LOCATION:Boardwalk Grill\, 901 W Bank Rd\, Celina\, OH\, United States
CATEGORIES:Boardwalk Grill
GEO:40.542642;-84.571525
X-APPLE-STRUCTURED-LOCATION;VALUE=URI;X-ADDRESS=Boardwalk Grill 901 W Bank Rd Celina OH United States;X-APPLE-RADIUS=500;X-TITLE=901 W Bank Rd:geo:-84.571525,40.542642
END:VEVENT
BEGIN:VEVENT
DTSTART;TZID=America/New_York:20260521T190000
DTEND;TZID=America/New_York:20260521T220000
DTSTAMP:20260421T043533
CREATED:20260202T173810Z
LAST-MODIFIED:20260420T220808Z
UID:24880-1779390000-1779400800@boardwalkvillage.com
SUMMARY:Boardwalk Grill: Karaoke
DESCRIPTION:Karaoke in the Boardwalk Grill Tent with DJ Terence. Pick your favorite song and get ready to sing your heart out! \nCLICK HERE FOR MORE INFORMATION
URL:https://boardwalkvillage.com/tribe-event/boardwalk-grill-karaoke-23/
LOCATION:Boardwalk Grill\, 901 W Bank Rd\, Celina\, OH\, United States
CATEGORIES:Boardwalk Grill
GEO:40.542642;-84.571525
X-APPLE-STRUCTURED-LOCATION;VALUE=URI;X-ADDRESS=Boardwalk Grill 901 W Bank Rd Celina OH United States;X-APPLE-RADIUS=500;X-TITLE=901 W Bank Rd:geo:-84.571525,40.542642
END:VEVENT
BEGIN:VEVENT
DTSTART;TZID=America/New_York:20260522T190000
DTEND;TZID=America/New_York:20260522T230000
DTSTAMP:20260421T043533
CREATED:20260128T170855Z
LAST-MODIFIED:20260420T220808Z
UID:24600-1779476400-1779490800@boardwalkvillage.com
SUMMARY:Live Music:
DESCRIPTION:CLICK TO LEARN MORE
URL:https://boardwalkvillage.com/tribe-event/live-music-20/
LOCATION:Boardwalk Grill\, 901 W Bank Rd\, Celina\, OH\, United States
CATEGORIES:Boardwalk Grill
GEO:40.542642;-84.571525
X-APPLE-STRUCTURED-LOCATION;VALUE=URI;X-ADDRESS=Boardwalk Grill 901 W Bank Rd Celina OH United States;X-APPLE-RADIUS=500;X-TITLE=901 W Bank Rd:geo:-84.571525,40.542642
END:VEVENT
BEGIN:VEVENT
DTSTART;TZID=America/New_York:20260523T130000
DTEND;TZID=America/New_York:20260523T170000
DTSTAMP:20260421T043533
CREATED:20260128T170855Z
LAST-MODIFIED:20260420T220808Z
UID:24601-1779541200-1779555600@boardwalkvillage.com
SUMMARY:Live Music:
DESCRIPTION:CLICK TO LEARN MORE
URL:https://boardwalkvillage.com/tribe-event/live-music-21/
LOCATION:Boardwalk Grill\, 901 W Bank Rd\, Celina\, OH\, United States
CATEGORIES:Boardwalk Grill
GEO:40.542642;-84.571525
X-APPLE-STRUCTURED-LOCATION;VALUE=URI;X-ADDRESS=Boardwalk Grill 901 W Bank Rd Celina OH United States;X-APPLE-RADIUS=500;X-TITLE=901 W Bank Rd:geo:-84.571525,40.542642
END:VEVENT
BEGIN:VEVENT
DTSTART;TZID=America/New_York:20260523T190000
DTEND;TZID=America/New_York:20260523T230000
DTSTAMP:20260421T043533
CREATED:20260128T170855Z
LAST-MODIFIED:20260420T220808Z
UID:24602-1779562800-1779577200@boardwalkvillage.com
SUMMARY:Live Music:
DESCRIPTION:CLICK TO LEARN MORE
URL:https://boardwalkvillage.com/tribe-event/live-music-22/
LOCATION:Boardwalk Grill\, 901 W Bank Rd\, Celina\, OH\, United States
CATEGORIES:Boardwalk Grill
GEO:40.542642;-84.571525
X-APPLE-STRUCTURED-LOCATION;VALUE=URI;X-ADDRESS=Boardwalk Grill 901 W Bank Rd Celina OH United States;X-APPLE-RADIUS=500;X-TITLE=901 W Bank Rd:geo:-84.571525,40.542642
END:VEVENT
BEGIN:VEVENT
DTSTART;TZID=America/New_York:20260524T130000
DTEND;TZID=America/New_York:20260524T170000
DTSTAMP:20260421T043533
CREATED:20260128T170856Z
LAST-MODIFIED:20260420T220808Z
UID:24603-1779627600-1779642000@boardwalkvillage.com
SUMMARY:Live Music:
DESCRIPTION:CLICK TO LEARN MORE
URL:https://boardwalkvillage.com/tribe-event/live-music-23/
LOCATION:Boardwalk Grill\, 901 W Bank Rd\, Celina\, OH\, United States
CATEGORIES:Boardwalk Grill
GEO:40.542642;-84.571525
X-APPLE-STRUCTURED-LOCATION;VALUE=URI;X-ADDRESS=Boardwalk Grill 901 W Bank Rd Celina OH United States;X-APPLE-RADIUS=500;X-TITLE=901 W Bank Rd:geo:-84.571525,40.542642
END:VEVENT
BEGIN:VEVENT
DTSTART;TZID=America/New_York:20260524T190000
DTEND;TZID=America/New_York:20260524T230000
DTSTAMP:20260421T043533
CREATED:20260128T170856Z
LAST-MODIFIED:20260420T220800Z
UID:24604-1779649200-1779663600@boardwalkvillage.com
SUMMARY:Live Music:
DESCRIPTION:CLICK TO LEARN MORE
URL:https://boardwalkvillage.com/tribe-event/live-music-24/
LOCATION:Boardwalk Grill\, 901 W Bank Rd\, Celina\, OH\, United States
CATEGORIES:Boardwalk Grill
GEO:40.542642;-84.571525
X-APPLE-STRUCTURED-LOCATION;VALUE=URI;X-ADDRESS=Boardwalk Grill 901 W Bank Rd Celina OH United States;X-APPLE-RADIUS=500;X-TITLE=901 W Bank Rd:geo:-84.571525,40.542642
END:VEVENT
BEGIN:VEVENT
DTSTART;TZID=America/New_York:20260525T130000
DTEND;TZID=America/New_York:20260525T180000
DTSTAMP:20260421T043533
CREATED:20260128T170856Z
LAST-MODIFIED:20260420T220800Z
UID:24605-1779714000-1779732000@boardwalkvillage.com
SUMMARY:Live Music:
DESCRIPTION:CLICK TO LEARN MORE
URL:https://boardwalkvillage.com/tribe-event/live-music-25/
LOCATION:Boardwalk Grill\, 901 W Bank Rd\, Celina\, OH\, United States
CATEGORIES:Boardwalk Grill
GEO:40.542642;-84.571525
X-APPLE-STRUCTURED-LOCATION;VALUE=URI;X-ADDRESS=Boardwalk Grill 901 W Bank Rd Celina OH United States;X-APPLE-RADIUS=500;X-TITLE=901 W Bank Rd:geo:-84.571525,40.542642
END:VEVENT
BEGIN:VEVENT
DTSTART;TZID=America/New_York:20260528T190000
DTEND;TZID=America/New_York:20260528T220000
DTSTAMP:20260421T043533
CREATED:20260202T173812Z
LAST-MODIFIED:20260420T220801Z
UID:24881-1779994800-1780005600@boardwalkvillage.com
SUMMARY:Boardwalk Grill: Karaoke Contest
DESCRIPTION:Karaoke Contest in the Boardwalk Grill Tent with DJ Terence. Pick your favorite song and get ready to sing your heart out! \nPreliminary Dates: May 28th\, June 25th\, July 30thA maximum of 3 contestants will be able to qualify for the final karaoke contest on August 20th. The judges will make the final decision based on scoring who will make the cut and who will not.  \nFinal Date: August 20thAll contestant qualifiers from the preliminary rounds will be able to participate in the Karaoke Summer Contest Finale. Again judges will have the final decision on 1st place\, 2nd place and 3rd place.Prizes1st Place: $1\,000 Cash\, $250 Boardwalk Grill Gift Card & Golden Microphone Trophy2nd Place: $250 Cash\, $250 Boardwalk Grill Gift Card3rd Place: $150 Boardwalk Grill Gift Card \nRules \n\nNo charge for participating.\n  No pre-registration required – just show up and sing!  \nContestants must be 21 years of age at the time they compete.\nContestants will be judged on any or all of the following items: Appearance\, Professionalism\, Preparedness\, Material\, Audience Interaction\, Stage Presence & Vocal Ability.\nContestants will compete in random or signup order from 7PM-10PM. A warm up round will be available at 7PM.\nEach contestant will participate in 2 rounds. Must pick 3 songs with 1 as a backup song. Must be willing to use a song stocked by the house karaoke system.\nContestant agrees to abide by all judges decisions and hold Local Contest Venue\, Boardwalk Grill\, harmless from any and all actions\, legal or other resulting from participating in contest.\n\n Eligibility Guidelines  \n\nThis contest is designed for community members who enjoy singing for fun.\nPerformers whose primary income comes from singing\, or who regularly perform as paid vocalists\, may be deemed ineligible at the discretion of event organizers.\nIndividuals who tour\, hold contracts\, or regularly perform as paid vocalists are not eligible to compete.\nBy participating\, contestants agree to hold Boardwalk Grill\, the event venue\, and affiliated parties harmless from any claims or actions resulting from participation.\n\nCLICK HERE FOR MORE INFORMATION
URL:https://boardwalkvillage.com/tribe-event/boardwalk-grill-karaoke-contest-4/
LOCATION:Boardwalk Grill\, 901 W Bank Rd\, Celina\, OH\, United States
CATEGORIES:Boardwalk Grill
GEO:40.542642;-84.571525
X-APPLE-STRUCTURED-LOCATION;VALUE=URI;X-ADDRESS=Boardwalk Grill 901 W Bank Rd Celina OH United States;X-APPLE-RADIUS=500;X-TITLE=901 W Bank Rd:geo:-84.571525,40.542642
END:VEVENT
BEGIN:VEVENT
DTSTART;TZID=America/New_York:20260529T190000
DTEND;TZID=America/New_York:20260529T230000
DTSTAMP:20260421T043533
CREATED:20260128T170857Z
LAST-MODIFIED:20260420T220801Z
UID:24606-1780081200-1780095600@boardwalkvillage.com
SUMMARY:Live Music:
DESCRIPTION:CLICK TO LEARN MORE
URL:https://boardwalkvillage.com/tribe-event/live-music-26/
LOCATION:Boardwalk Grill\, 901 W Bank Rd\, Celina\, OH\, United States
CATEGORIES:Boardwalk Grill
GEO:40.542642;-84.571525
X-APPLE-STRUCTURED-LOCATION;VALUE=URI;X-ADDRESS=Boardwalk Grill 901 W Bank Rd Celina OH United States;X-APPLE-RADIUS=500;X-TITLE=901 W Bank Rd:geo:-84.571525,40.542642
END:VEVENT
BEGIN:VEVENT
DTSTART;TZID=America/New_York:20260530T130000
DTEND;TZID=America/New_York:20260530T170000
DTSTAMP:20260421T043533
CREATED:20260128T170857Z
LAST-MODIFIED:20260420T220801Z
UID:24607-1780146000-1780160400@boardwalkvillage.com
SUMMARY:Live Music:
DESCRIPTION:CLICK TO LEARN MORE
URL:https://boardwalkvillage.com/tribe-event/live-music-27/
LOCATION:Boardwalk Grill\, 901 W Bank Rd\, Celina\, OH\, United States
CATEGORIES:Boardwalk Grill
GEO:40.542642;-84.571525
X-APPLE-STRUCTURED-LOCATION;VALUE=URI;X-ADDRESS=Boardwalk Grill 901 W Bank Rd Celina OH United States;X-APPLE-RADIUS=500;X-TITLE=901 W Bank Rd:geo:-84.571525,40.542642
END:VEVENT
BEGIN:VEVENT
DTSTART;TZID=America/New_York:20260530T190000
DTEND;TZID=America/New_York:20260530T230000
DTSTAMP:20260421T043533
CREATED:20260128T170857Z
LAST-MODIFIED:20260420T220802Z
UID:24608-1780167600-1780182000@boardwalkvillage.com
SUMMARY:Live Music:
DESCRIPTION:CLICK TO LEARN MORE
URL:https://boardwalkvillage.com/tribe-event/live-music-28/
LOCATION:Boardwalk Grill\, 901 W Bank Rd\, Celina\, OH\, United States
CATEGORIES:Boardwalk Grill
GEO:40.542642;-84.571525
X-APPLE-STRUCTURED-LOCATION;VALUE=URI;X-ADDRESS=Boardwalk Grill 901 W Bank Rd Celina OH United States;X-APPLE-RADIUS=500;X-TITLE=901 W Bank Rd:geo:-84.571525,40.542642
END:VEVENT
BEGIN:VEVENT
DTSTART;TZID=America/New_York:20260531T140000
DTEND;TZID=America/New_York:20260531T180000
DTSTAMP:20260421T043533
CREATED:20260128T170858Z
LAST-MODIFIED:20260420T220802Z
UID:24609-1780236000-1780250400@boardwalkvillage.com
SUMMARY:Live Music:
DESCRIPTION:CLICK TO LEARN MORE
URL:https://boardwalkvillage.com/tribe-event/live-music-29/
LOCATION:Boardwalk Grill\, 901 W Bank Rd\, Celina\, OH\, United States
CATEGORIES:Boardwalk Grill
GEO:40.542642;-84.571525
X-APPLE-STRUCTURED-LOCATION;VALUE=URI;X-ADDRESS=Boardwalk Grill 901 W Bank Rd Celina OH United States;X-APPLE-RADIUS=500;X-TITLE=901 W Bank Rd:geo:-84.571525,40.542642
END:VEVENT
BEGIN:VEVENT
DTSTART;TZID=America/New_York:20260604T190000
DTEND;TZID=America/New_York:20260604T220000
DTSTAMP:20260421T043533
CREATED:20260202T173813Z
LAST-MODIFIED:20260420T220802Z
UID:24882-1780599600-1780610400@boardwalkvillage.com
SUMMARY:Boardwalk Grill: Karaoke & Kissing Cardinals Line Dancing
DESCRIPTION:Karaoke in the Boardwalk Grill Tent with DJ Terence. Pick your favorite song and get ready to sing your heart out! Kissing Cardinals will be here as well to do some Line Dancing from 7PM-8PM! \nCLICK HERE FOR MORE INFORMATION
URL:https://boardwalkvillage.com/tribe-event/boardwalk-grill-karaoke-24/
LOCATION:Boardwalk Grill\, 901 W Bank Rd\, Celina\, OH\, United States
CATEGORIES:Boardwalk Grill
GEO:40.542642;-84.571525
X-APPLE-STRUCTURED-LOCATION;VALUE=URI;X-ADDRESS=Boardwalk Grill 901 W Bank Rd Celina OH United States;X-APPLE-RADIUS=500;X-TITLE=901 W Bank Rd:geo:-84.571525,40.542642
END:VEVENT
BEGIN:VEVENT
DTSTART;TZID=America/New_York:20260605T190000
DTEND;TZID=America/New_York:20260605T230000
DTSTAMP:20260421T043533
CREATED:20260128T170858Z
LAST-MODIFIED:20260420T220802Z
UID:24610-1780686000-1780700400@boardwalkvillage.com
SUMMARY:Live Music:
DESCRIPTION:CLICK TO LEARN MORE
URL:https://boardwalkvillage.com/tribe-event/live-music-30/
LOCATION:Boardwalk Grill\, 901 W Bank Rd\, Celina\, OH\, United States
CATEGORIES:Boardwalk Grill
GEO:40.542642;-84.571525
X-APPLE-STRUCTURED-LOCATION;VALUE=URI;X-ADDRESS=Boardwalk Grill 901 W Bank Rd Celina OH United States;X-APPLE-RADIUS=500;X-TITLE=901 W Bank Rd:geo:-84.571525,40.542642
END:VEVENT
BEGIN:VEVENT
DTSTART;TZID=America/New_York:20260606T130000
DTEND;TZID=America/New_York:20260606T170000
DTSTAMP:20260421T043533
CREATED:20260128T170858Z
LAST-MODIFIED:20260420T220803Z
UID:24611-1780750800-1780765200@boardwalkvillage.com
SUMMARY:Live Music:
DESCRIPTION:CLICK TO LEARN MORE
URL:https://boardwalkvillage.com/tribe-event/live-music-31/
LOCATION:Boardwalk Grill\, 901 W Bank Rd\, Celina\, OH\, United States
CATEGORIES:Boardwalk Grill
GEO:40.542642;-84.571525
X-APPLE-STRUCTURED-LOCATION;VALUE=URI;X-ADDRESS=Boardwalk Grill 901 W Bank Rd Celina OH United States;X-APPLE-RADIUS=500;X-TITLE=901 W Bank Rd:geo:-84.571525,40.542642
END:VEVENT
END:VCALENDAR