BEGIN:VCALENDAR
VERSION:2.0
PRODID:-//Boardwalk Village - ECPv6.15.20//NONSGML v1.0//EN
CALSCALE:GREGORIAN
METHOD:PUBLISH
X-WR-CALNAME:Boardwalk Village
X-ORIGINAL-URL:https://boardwalkvillage.com
X-WR-CALDESC:Events for Boardwalk Village
REFRESH-INTERVAL;VALUE=DURATION:PT1H
X-Robots-Tag:noindex
X-PUBLISHED-TTL:PT1H
BEGIN:VTIMEZONE
TZID:America/New_York
BEGIN:DAYLIGHT
TZOFFSETFROM:-0500
TZOFFSETTO:-0400
TZNAME:EDT
DTSTART:20230312T070000
END:DAYLIGHT
BEGIN:STANDARD
TZOFFSETFROM:-0400
TZOFFSETTO:-0500
TZNAME:EST
DTSTART:20231105T060000
END:STANDARD
BEGIN:DAYLIGHT
TZOFFSETFROM:-0500
TZOFFSETTO:-0400
TZNAME:EDT
DTSTART:20240310T070000
END:DAYLIGHT
BEGIN:STANDARD
TZOFFSETFROM:-0400
TZOFFSETTO:-0500
TZNAME:EST
DTSTART:20241103T060000
END:STANDARD
BEGIN:DAYLIGHT
TZOFFSETFROM:-0500
TZOFFSETTO:-0400
TZNAME:EDT
DTSTART:20250309T070000
END:DAYLIGHT
BEGIN:STANDARD
TZOFFSETFROM:-0400
TZOFFSETTO:-0500
TZNAME:EST
DTSTART:20251102T060000
END:STANDARD
END:VTIMEZONE
BEGIN:VEVENT
DTSTART;VALUE=DATE:20240726
DTEND;VALUE=DATE:20240729
DTSTAMP:20260424T005430
CREATED:20240507T081335Z
LAST-MODIFIED:20240728T205429Z
UID:15388-1721952000-1722211199@boardwalkvillage.com
SUMMARY:Celina Lake Festival
DESCRIPTION:Christmas in July annual Festival! Live music\, fair rides\, 26th Annual Amphicars\, fireworks on Friday\, and more.  \nCLICK HERE FOR MORE INFORMATION
URL:https://boardwalkvillage.com/tribe-event/celina-lake-festival/
LOCATION:Celina Lake Festival\, 218 S Main St\, Celina\, OH\, United States
GEO:40.547945;-84.570727
X-APPLE-STRUCTURED-LOCATION;VALUE=URI;X-ADDRESS=Celina Lake Festival 218 S Main St Celina OH United States;X-APPLE-RADIUS=500;X-TITLE=218 S Main St:geo:-84.570727,40.547945
END:VEVENT
END:VCALENDAR