BEGIN:VCALENDAR
VERSION:2.0
PRODID:-//Boardwalk Village - ECPv6.15.20//NONSGML v1.0//EN
CALSCALE:GREGORIAN
METHOD:PUBLISH
X-WR-CALNAME:Boardwalk Village
X-ORIGINAL-URL:https://boardwalkvillage.com
X-WR-CALDESC:Events for Boardwalk Village
REFRESH-INTERVAL;VALUE=DURATION:PT1H
X-Robots-Tag:noindex
X-PUBLISHED-TTL:PT1H
BEGIN:VTIMEZONE
TZID:America/New_York
BEGIN:DAYLIGHT
TZOFFSETFROM:-0500
TZOFFSETTO:-0400
TZNAME:EDT
DTSTART:20230312T070000
END:DAYLIGHT
BEGIN:STANDARD
TZOFFSETFROM:-0400
TZOFFSETTO:-0500
TZNAME:EST
DTSTART:20231105T060000
END:STANDARD
BEGIN:DAYLIGHT
TZOFFSETFROM:-0500
TZOFFSETTO:-0400
TZNAME:EDT
DTSTART:20240310T070000
END:DAYLIGHT
BEGIN:STANDARD
TZOFFSETFROM:-0400
TZOFFSETTO:-0500
TZNAME:EST
DTSTART:20241103T060000
END:STANDARD
BEGIN:DAYLIGHT
TZOFFSETFROM:-0500
TZOFFSETTO:-0400
TZNAME:EDT
DTSTART:20250309T070000
END:DAYLIGHT
BEGIN:STANDARD
TZOFFSETFROM:-0400
TZOFFSETTO:-0500
TZNAME:EST
DTSTART:20251102T060000
END:STANDARD
END:VTIMEZONE
BEGIN:VEVENT
DTSTART;VALUE=DATE:20240901
DTEND;VALUE=DATE:20240902
DTSTAMP:20260421T085426
CREATED:20240515T084156Z
LAST-MODIFIED:20240901T215257Z
UID:15608-1725148800-1725235199@boardwalkvillage.com
SUMMARY:Moosestock
DESCRIPTION:A day of entertainment from many acts at the Celina Moose Lodge #1473 \nCLICK HERE FOR MORE INFORMATION
URL:https://boardwalkvillage.com/tribe-event/moosestock/
LOCATION:Loyal Order of Moose\, 1120 E Market St\, Celina\, OH\, United States
GEO:40.548947;-84.556179
X-APPLE-STRUCTURED-LOCATION;VALUE=URI;X-ADDRESS=Loyal Order of Moose 1120 E Market St Celina OH United States;X-APPLE-RADIUS=500;X-TITLE=1120 E Market St:geo:-84.556179,40.548947
END:VEVENT
END:VCALENDAR