BEGIN:VCALENDAR
VERSION:2.0
PRODID:-//Boardwalk Village - ECPv6.15.20//NONSGML v1.0//EN
CALSCALE:GREGORIAN
METHOD:PUBLISH
X-ORIGINAL-URL:https://boardwalkvillage.com
X-WR-CALDESC:Events for Boardwalk Village
REFRESH-INTERVAL;VALUE=DURATION:PT1H
X-Robots-Tag:noindex
X-PUBLISHED-TTL:PT1H
BEGIN:VTIMEZONE
TZID:America/New_York
BEGIN:DAYLIGHT
TZOFFSETFROM:-0500
TZOFFSETTO:-0400
TZNAME:EDT
DTSTART:20240310T070000
END:DAYLIGHT
BEGIN:STANDARD
TZOFFSETFROM:-0400
TZOFFSETTO:-0500
TZNAME:EST
DTSTART:20241103T060000
END:STANDARD
BEGIN:DAYLIGHT
TZOFFSETFROM:-0500
TZOFFSETTO:-0400
TZNAME:EDT
DTSTART:20250309T070000
END:DAYLIGHT
BEGIN:STANDARD
TZOFFSETFROM:-0400
TZOFFSETTO:-0500
TZNAME:EST
DTSTART:20251102T060000
END:STANDARD
BEGIN:DAYLIGHT
TZOFFSETFROM:-0500
TZOFFSETTO:-0400
TZNAME:EDT
DTSTART:20260308T070000
END:DAYLIGHT
BEGIN:STANDARD
TZOFFSETFROM:-0400
TZOFFSETTO:-0500
TZNAME:EST
DTSTART:20261101T060000
END:STANDARD
END:VTIMEZONE
BEGIN:VEVENT
DTSTART;VALUE=DATE:20250807
DTEND;VALUE=DATE:20250811
DTSTAMP:20260423T150009
CREATED:20250123T225417Z
LAST-MODIFIED:20250810T222253Z
UID:19054-1754524800-1754870399@boardwalkvillage.com
SUMMARY:St. Marys Summerfest
DESCRIPTION:The St. Marys SummerFest is a family friendly festival that has various events throughout the weekend! \nCLICK HERE FOR MORE INFORMATION
URL:https://boardwalkvillage.com/tribe-event/st-marys-summerfest-2/
LOCATION:North Chestnut Street & South Chestnut Street N Chestnut St & S Chestnut St\, 14000 St Marys River Rd\, Saint Marys\, OH\, United States
GEO:40.553596;-84.397044
X-APPLE-STRUCTURED-LOCATION;VALUE=URI;X-ADDRESS=North Chestnut Street & South Chestnut Street N Chestnut St & S Chestnut St 14000 St Marys River Rd Saint Marys OH United States;X-APPLE-RADIUS=500;X-TITLE=14000 St Marys River Rd:geo:-84.397044,40.553596
END:VEVENT
END:VCALENDAR