BEGIN:VCALENDAR
VERSION:2.0
PRODID:-//Boardwalk Village - ECPv6.15.20//NONSGML v1.0//EN
CALSCALE:GREGORIAN
METHOD:PUBLISH
X-WR-CALNAME:Boardwalk Village
X-ORIGINAL-URL:https://boardwalkvillage.com
X-WR-CALDESC:Events for Boardwalk Village
REFRESH-INTERVAL;VALUE=DURATION:PT1H
X-Robots-Tag:noindex
X-PUBLISHED-TTL:PT1H
BEGIN:VTIMEZONE
TZID:America/New_York
BEGIN:DAYLIGHT
TZOFFSETFROM:-0500
TZOFFSETTO:-0400
TZNAME:EDT
DTSTART:20230312T070000
END:DAYLIGHT
BEGIN:STANDARD
TZOFFSETFROM:-0400
TZOFFSETTO:-0500
TZNAME:EST
DTSTART:20231105T060000
END:STANDARD
BEGIN:DAYLIGHT
TZOFFSETFROM:-0500
TZOFFSETTO:-0400
TZNAME:EDT
DTSTART:20240310T070000
END:DAYLIGHT
BEGIN:STANDARD
TZOFFSETFROM:-0400
TZOFFSETTO:-0500
TZNAME:EST
DTSTART:20241103T060000
END:STANDARD
BEGIN:DAYLIGHT
TZOFFSETFROM:-0500
TZOFFSETTO:-0400
TZNAME:EDT
DTSTART:20250309T070000
END:DAYLIGHT
BEGIN:STANDARD
TZOFFSETFROM:-0400
TZOFFSETTO:-0500
TZNAME:EST
DTSTART:20251102T060000
END:STANDARD
END:VTIMEZONE
BEGIN:VEVENT
DTSTART;VALUE=DATE:20240705
DTEND;VALUE=DATE:20240708
DTSTAMP:20260423T145334
CREATED:20240515T084154Z
LAST-MODIFIED:20240707T192308Z
UID:15600-1720137600-1720396799@boardwalkvillage.com
SUMMARY:St. Henry Community Picnic
DESCRIPTION:Free entertainment\, rides\, games\, food\, various events for the family! \nCLICK HERE FOR MORE INFORMATION
URL:https://boardwalkvillage.com/tribe-event/st-henry-community-picnic/
LOCATION:Saint Henry\, 101 Henry St\, Lima\, OH\, United States
GEO:40.784465;-84.194775
X-APPLE-STRUCTURED-LOCATION;VALUE=URI;X-ADDRESS=Saint Henry 101 Henry St Lima OH United States;X-APPLE-RADIUS=500;X-TITLE=101 Henry St:geo:-84.194775,40.784465
END:VEVENT
END:VCALENDAR