BEGIN:VCALENDAR
VERSION:2.0
PRODID:-//Boardwalk Village - ECPv6.15.20//NONSGML v1.0//EN
CALSCALE:GREGORIAN
METHOD:PUBLISH
X-ORIGINAL-URL:https://boardwalkvillage.com
X-WR-CALDESC:Events for Boardwalk Village
REFRESH-INTERVAL;VALUE=DURATION:PT1H
X-Robots-Tag:noindex
X-PUBLISHED-TTL:PT1H
BEGIN:VTIMEZONE
TZID:America/New_York
BEGIN:DAYLIGHT
TZOFFSETFROM:-0500
TZOFFSETTO:-0400
TZNAME:EDT
DTSTART:20240310T070000
END:DAYLIGHT
BEGIN:STANDARD
TZOFFSETFROM:-0400
TZOFFSETTO:-0500
TZNAME:EST
DTSTART:20241103T060000
END:STANDARD
BEGIN:DAYLIGHT
TZOFFSETFROM:-0500
TZOFFSETTO:-0400
TZNAME:EDT
DTSTART:20250309T070000
END:DAYLIGHT
BEGIN:STANDARD
TZOFFSETFROM:-0400
TZOFFSETTO:-0500
TZNAME:EST
DTSTART:20251102T060000
END:STANDARD
BEGIN:DAYLIGHT
TZOFFSETFROM:-0500
TZOFFSETTO:-0400
TZNAME:EDT
DTSTART:20260308T070000
END:DAYLIGHT
BEGIN:STANDARD
TZOFFSETFROM:-0400
TZOFFSETTO:-0500
TZNAME:EST
DTSTART:20261101T060000
END:STANDARD
END:VTIMEZONE
BEGIN:VEVENT
DTSTART;TZID=America/New_York:20250829T090000
DTEND;TZID=America/New_York:20250829T160000
DTSTAMP:20260423T090126
CREATED:20250701T205311Z
LAST-MODIFIED:20250828T230831Z
UID:21708-1756458000-1756483200@boardwalkvillage.com
SUMMARY:Upper Deck: Golf Bays Open!
DESCRIPTION:To reserve\, \nVisit https://player.eagleclubsystems.online/#/tee-slot?dbname=rush20221215 \nOr call us at 419-776-2028
URL:https://boardwalkvillage.com/tribe-event/upper-deck-golf-bays-open-43/
LOCATION:Upper Deck Sports Bar\, Celina\, OH\, United States
CATEGORIES:Sub Shack at Shipyard
GEO:40.556645;-84.628714
END:VEVENT
BEGIN:VEVENT
DTSTART;TZID=America/New_York:20250828T090000
DTEND;TZID=America/New_York:20250828T160000
DTSTAMP:20260423T090126
CREATED:20250701T205311Z
LAST-MODIFIED:20250827T230801Z
UID:21707-1756371600-1756396800@boardwalkvillage.com
SUMMARY:Upper Deck: Golf Bays Open!
DESCRIPTION:To reserve\, \nVisit https://player.eagleclubsystems.online/#/tee-slot?dbname=rush20221215 \nOr call us at 419-776-2028
URL:https://boardwalkvillage.com/tribe-event/upper-deck-golf-bays-open-42/
LOCATION:Upper Deck Sports Bar\, Celina\, OH\, United States
CATEGORIES:Sub Shack at Shipyard
GEO:40.556645;-84.628714
END:VEVENT
BEGIN:VEVENT
DTSTART;TZID=America/New_York:20250827T090000
DTEND;TZID=America/New_York:20250827T160000
DTSTAMP:20260423T090126
CREATED:20250701T205311Z
LAST-MODIFIED:20250826T230756Z
UID:21706-1756285200-1756310400@boardwalkvillage.com
SUMMARY:Upper Deck: Golf Bays Open!
DESCRIPTION:To reserve\, \nVisit https://player.eagleclubsystems.online/#/tee-slot?dbname=rush20221215 \nOr call us at 419-776-2028
URL:https://boardwalkvillage.com/tribe-event/upper-deck-golf-bays-open-41/
LOCATION:Upper Deck Sports Bar\, Celina\, OH\, United States
CATEGORIES:Sub Shack at Shipyard
GEO:40.556645;-84.628714
END:VEVENT
BEGIN:VEVENT
DTSTART;TZID=America/New_York:20250826T090000
DTEND;TZID=America/New_York:20250826T160000
DTSTAMP:20260423T090126
CREATED:20250701T205311Z
LAST-MODIFIED:20250825T230831Z
UID:21705-1756198800-1756224000@boardwalkvillage.com
SUMMARY:Upper Deck: Golf Bays Open!
DESCRIPTION:To reserve\, \nVisit https://player.eagleclubsystems.online/#/tee-slot?dbname=rush20221215 \nOr call us at 419-776-2028
URL:https://boardwalkvillage.com/tribe-event/upper-deck-golf-bays-open-40/
LOCATION:Upper Deck Sports Bar\, Celina\, OH\, United States
CATEGORIES:Sub Shack at Shipyard
GEO:40.556645;-84.628714
END:VEVENT
BEGIN:VEVENT
DTSTART;TZID=America/New_York:20250825T090000
DTEND;TZID=America/New_York:20250825T160000
DTSTAMP:20260423T090126
CREATED:20250701T205311Z
LAST-MODIFIED:20250824T230757Z
UID:21704-1756112400-1756137600@boardwalkvillage.com
SUMMARY:Upper Deck: Golf Bays Open!
DESCRIPTION:To reserve\, \nVisit https://player.eagleclubsystems.online/#/tee-slot?dbname=rush20221215 \nOr call us at 419-776-2028
URL:https://boardwalkvillage.com/tribe-event/upper-deck-golf-bays-open-39/
LOCATION:Upper Deck Sports Bar\, Celina\, OH\, United States
CATEGORIES:Sub Shack at Shipyard
GEO:40.556645;-84.628714
END:VEVENT
BEGIN:VEVENT
DTSTART;TZID=America/New_York:20250822T090000
DTEND;TZID=America/New_York:20250822T160000
DTSTAMP:20260423T090126
CREATED:20250701T205310Z
LAST-MODIFIED:20250821T225745Z
UID:21703-1755853200-1755878400@boardwalkvillage.com
SUMMARY:Upper Deck: Golf Bays Open!
DESCRIPTION:To reserve\, \nVisit https://player.eagleclubsystems.online/#/tee-slot?dbname=rush20221215 \nOr call us at 419-776-2028
URL:https://boardwalkvillage.com/tribe-event/upper-deck-golf-bays-open-38/
LOCATION:Upper Deck Sports Bar\, Celina\, OH\, United States
CATEGORIES:Sub Shack at Shipyard
GEO:40.556645;-84.628714
END:VEVENT
BEGIN:VEVENT
DTSTART;TZID=America/New_York:20250821T090000
DTEND;TZID=America/New_York:20250821T160000
DTSTAMP:20260423T090126
CREATED:20250701T205310Z
LAST-MODIFIED:20250820T225319Z
UID:21702-1755766800-1755792000@boardwalkvillage.com
SUMMARY:Upper Deck: Golf Bays Open!
DESCRIPTION:To reserve\, \nVisit https://player.eagleclubsystems.online/#/tee-slot?dbname=rush20221215 \nOr call us at 419-776-2028
URL:https://boardwalkvillage.com/tribe-event/upper-deck-golf-bays-open-37/
LOCATION:Upper Deck Sports Bar\, Celina\, OH\, United States
CATEGORIES:Sub Shack at Shipyard
GEO:40.556645;-84.628714
END:VEVENT
BEGIN:VEVENT
DTSTART;TZID=America/New_York:20250820T090000
DTEND;TZID=America/New_York:20250820T160000
DTSTAMP:20260423T090126
CREATED:20250701T205310Z
LAST-MODIFIED:20250819T225317Z
UID:21701-1755680400-1755705600@boardwalkvillage.com
SUMMARY:Upper Deck: Golf Bays Open!
DESCRIPTION:To reserve\, \nVisit https://player.eagleclubsystems.online/#/tee-slot?dbname=rush20221215 \nOr call us at 419-776-2028
URL:https://boardwalkvillage.com/tribe-event/upper-deck-golf-bays-open-36/
LOCATION:Upper Deck Sports Bar\, Celina\, OH\, United States
CATEGORIES:Sub Shack at Shipyard
GEO:40.556645;-84.628714
END:VEVENT
BEGIN:VEVENT
DTSTART;TZID=America/New_York:20250819T090000
DTEND;TZID=America/New_York:20250819T160000
DTSTAMP:20260423T090126
CREATED:20250701T205310Z
LAST-MODIFIED:20250818T225349Z
UID:21700-1755594000-1755619200@boardwalkvillage.com
SUMMARY:Upper Deck: Golf Bays Open!
DESCRIPTION:To reserve\, \nVisit https://player.eagleclubsystems.online/#/tee-slot?dbname=rush20221215 \nOr call us at 419-776-2028
URL:https://boardwalkvillage.com/tribe-event/upper-deck-golf-bays-open-35/
LOCATION:Upper Deck Sports Bar\, Celina\, OH\, United States
CATEGORIES:Sub Shack at Shipyard
GEO:40.556645;-84.628714
END:VEVENT
BEGIN:VEVENT
DTSTART;TZID=America/New_York:20250818T090000
DTEND;TZID=America/New_York:20250818T160000
DTSTAMP:20260423T090126
CREATED:20250701T205310Z
LAST-MODIFIED:20250817T225331Z
UID:21699-1755507600-1755532800@boardwalkvillage.com
SUMMARY:Upper Deck: Golf Bays Open!
DESCRIPTION:To reserve\, \nVisit https://player.eagleclubsystems.online/#/tee-slot?dbname=rush20221215 \nOr call us at 419-776-2028
URL:https://boardwalkvillage.com/tribe-event/upper-deck-golf-bays-open-34/
LOCATION:Upper Deck Sports Bar\, Celina\, OH\, United States
CATEGORIES:Sub Shack at Shipyard
GEO:40.556645;-84.628714
END:VEVENT
BEGIN:VEVENT
DTSTART;TZID=America/New_York:20250815T090000
DTEND;TZID=America/New_York:20250815T160000
DTSTAMP:20260423T090126
CREATED:20250701T205309Z
LAST-MODIFIED:20250814T223837Z
UID:21698-1755248400-1755273600@boardwalkvillage.com
SUMMARY:Upper Deck: Golf Bays Open!
DESCRIPTION:To reserve\, \nVisit https://player.eagleclubsystems.online/#/tee-slot?dbname=rush20221215 \nOr call us at 419-776-2028
URL:https://boardwalkvillage.com/tribe-event/upper-deck-golf-bays-open-33/
LOCATION:Upper Deck Sports Bar\, Celina\, OH\, United States
CATEGORIES:Sub Shack at Shipyard
GEO:40.556645;-84.628714
END:VEVENT
BEGIN:VEVENT
DTSTART;TZID=America/New_York:20250814T090000
DTEND;TZID=America/New_York:20250814T160000
DTSTAMP:20260423T090126
CREATED:20250701T205309Z
LAST-MODIFIED:20250813T223815Z
UID:21697-1755162000-1755187200@boardwalkvillage.com
SUMMARY:Upper Deck: Golf Bays Open!
DESCRIPTION:To reserve\, \nVisit https://player.eagleclubsystems.online/#/tee-slot?dbname=rush20221215 \nOr call us at 419-776-2028
URL:https://boardwalkvillage.com/tribe-event/upper-deck-golf-bays-open-32/
LOCATION:Upper Deck Sports Bar\, Celina\, OH\, United States
CATEGORIES:Sub Shack at Shipyard
GEO:40.556645;-84.628714
END:VEVENT
BEGIN:VEVENT
DTSTART;TZID=America/New_York:20250813T090000
DTEND;TZID=America/New_York:20250813T160000
DTSTAMP:20260423T090126
CREATED:20250701T205309Z
LAST-MODIFIED:20250812T223759Z
UID:21696-1755075600-1755100800@boardwalkvillage.com
SUMMARY:Upper Deck: Golf Bays Open!
DESCRIPTION:To reserve\, \nVisit https://player.eagleclubsystems.online/#/tee-slot?dbname=rush20221215 \nOr call us at 419-776-2028
URL:https://boardwalkvillage.com/tribe-event/upper-deck-golf-bays-open-31/
LOCATION:Upper Deck Sports Bar\, Celina\, OH\, United States
CATEGORIES:Sub Shack at Shipyard
GEO:40.556645;-84.628714
END:VEVENT
BEGIN:VEVENT
DTSTART;TZID=America/New_York:20250812T090000
DTEND;TZID=America/New_York:20250812T160000
DTSTAMP:20260423T090126
CREATED:20250701T205309Z
LAST-MODIFIED:20250811T223749Z
UID:21695-1754989200-1755014400@boardwalkvillage.com
SUMMARY:Upper Deck: Golf Bays Open!
DESCRIPTION:To reserve\, \nVisit https://player.eagleclubsystems.online/#/tee-slot?dbname=rush20221215 \nOr call us at 419-776-2028
URL:https://boardwalkvillage.com/tribe-event/upper-deck-golf-bays-open-30/
LOCATION:Upper Deck Sports Bar\, Celina\, OH\, United States
CATEGORIES:Sub Shack at Shipyard
GEO:40.556645;-84.628714
END:VEVENT
BEGIN:VEVENT
DTSTART;TZID=America/New_York:20250811T090000
DTEND;TZID=America/New_York:20250811T160000
DTSTAMP:20260423T090126
CREATED:20250701T205309Z
LAST-MODIFIED:20250810T223810Z
UID:21694-1754902800-1754928000@boardwalkvillage.com
SUMMARY:Upper Deck: Golf Bays Open!
DESCRIPTION:To reserve\, \nVisit https://player.eagleclubsystems.online/#/tee-slot?dbname=rush20221215 \nOr call us at 419-776-2028
URL:https://boardwalkvillage.com/tribe-event/upper-deck-golf-bays-open-29/
LOCATION:Upper Deck Sports Bar\, Celina\, OH\, United States
CATEGORIES:Sub Shack at Shipyard
GEO:40.556645;-84.628714
END:VEVENT
BEGIN:VEVENT
DTSTART;TZID=America/New_York:20250808T090000
DTEND;TZID=America/New_York:20250808T160000
DTSTAMP:20260423T090126
CREATED:20250701T205309Z
LAST-MODIFIED:20250807T223750Z
UID:21693-1754643600-1754668800@boardwalkvillage.com
SUMMARY:Upper Deck: Golf Bays Open!
DESCRIPTION:To reserve\, \nVisit https://player.eagleclubsystems.online/#/tee-slot?dbname=rush20221215 \nOr call us at 419-776-2028
URL:https://boardwalkvillage.com/tribe-event/upper-deck-golf-bays-open-28/
LOCATION:Upper Deck Sports Bar\, Celina\, OH\, United States
CATEGORIES:Sub Shack at Shipyard
GEO:40.556645;-84.628714
END:VEVENT
BEGIN:VEVENT
DTSTART;TZID=America/New_York:20250807T090000
DTEND;TZID=America/New_York:20250807T160000
DTSTAMP:20260423T090126
CREATED:20250701T205308Z
LAST-MODIFIED:20250806T222334Z
UID:21692-1754557200-1754582400@boardwalkvillage.com
SUMMARY:Upper Deck: Golf Bays Open!
DESCRIPTION:To reserve\, \nVisit https://player.eagleclubsystems.online/#/tee-slot?dbname=rush20221215 \nOr call us at 419-776-2028
URL:https://boardwalkvillage.com/tribe-event/upper-deck-golf-bays-open-27/
LOCATION:Upper Deck Sports Bar\, Celina\, OH\, United States
CATEGORIES:Sub Shack at Shipyard
GEO:40.556645;-84.628714
END:VEVENT
BEGIN:VEVENT
DTSTART;TZID=America/New_York:20250806T090000
DTEND;TZID=America/New_York:20250806T160000
DTSTAMP:20260423T090126
CREATED:20250701T205308Z
LAST-MODIFIED:20250805T222259Z
UID:21691-1754470800-1754496000@boardwalkvillage.com
SUMMARY:Upper Deck: Golf Bays Open!
DESCRIPTION:To reserve\, \nVisit https://player.eagleclubsystems.online/#/tee-slot?dbname=rush20221215 \nOr call us at 419-776-2028
URL:https://boardwalkvillage.com/tribe-event/upper-deck-golf-bays-open-26/
LOCATION:Upper Deck Sports Bar\, Celina\, OH\, United States
CATEGORIES:Sub Shack at Shipyard
GEO:40.556645;-84.628714
END:VEVENT
BEGIN:VEVENT
DTSTART;TZID=America/New_York:20250805T090000
DTEND;TZID=America/New_York:20250805T160000
DTSTAMP:20260423T090126
CREATED:20250701T205308Z
LAST-MODIFIED:20250804T222304Z
UID:21690-1754384400-1754409600@boardwalkvillage.com
SUMMARY:Upper Deck: Golf Bays Open!
DESCRIPTION:To reserve\, \nVisit https://player.eagleclubsystems.online/#/tee-slot?dbname=rush20221215 \nOr call us at 419-776-2028
URL:https://boardwalkvillage.com/tribe-event/upper-deck-golf-bays-open-25/
LOCATION:Upper Deck Sports Bar\, Celina\, OH\, United States
CATEGORIES:Sub Shack at Shipyard
GEO:40.556645;-84.628714
END:VEVENT
BEGIN:VEVENT
DTSTART;TZID=America/New_York:20250804T090000
DTEND;TZID=America/New_York:20250804T160000
DTSTAMP:20260423T090126
CREATED:20250701T205308Z
LAST-MODIFIED:20250803T222306Z
UID:21689-1754298000-1754323200@boardwalkvillage.com
SUMMARY:Upper Deck: Golf Bays Open!
DESCRIPTION:To reserve\, \nVisit https://player.eagleclubsystems.online/#/tee-slot?dbname=rush20221215 \nOr call us at 419-776-2028
URL:https://boardwalkvillage.com/tribe-event/upper-deck-golf-bays-open-24/
LOCATION:Upper Deck Sports Bar\, Celina\, OH\, United States
CATEGORIES:Sub Shack at Shipyard
GEO:40.556645;-84.628714
END:VEVENT
BEGIN:VEVENT
DTSTART;TZID=America/New_York:20250801T090000
DTEND;TZID=America/New_York:20250801T160000
DTSTAMP:20260423T090126
CREATED:20250701T205308Z
LAST-MODIFIED:20250731T220805Z
UID:21688-1754038800-1754064000@boardwalkvillage.com
SUMMARY:Upper Deck: Golf Bays Open!
DESCRIPTION:To reserve\, \nVisit https://player.eagleclubsystems.online/#/tee-slot?dbname=rush20221215 \nOr call us at 419-776-2028
URL:https://boardwalkvillage.com/tribe-event/upper-deck-golf-bays-open-23/
LOCATION:Upper Deck Sports Bar\, Celina\, OH\, United States
CATEGORIES:Sub Shack at Shipyard
GEO:40.556645;-84.628714
END:VEVENT
BEGIN:VEVENT
DTSTART;TZID=America/New_York:20250731T090000
DTEND;TZID=America/New_York:20250731T160000
DTSTAMP:20260423T090126
CREATED:20250701T205307Z
LAST-MODIFIED:20250730T213823Z
UID:21687-1753952400-1753977600@boardwalkvillage.com
SUMMARY:Upper Deck: Golf Bays Open!
DESCRIPTION:To reserve\, \nVisit https://player.eagleclubsystems.online/#/tee-slot?dbname=rush20221215 \nOr call us at 419-776-2028
URL:https://boardwalkvillage.com/tribe-event/upper-deck-golf-bays-open-22/
LOCATION:Upper Deck Sports Bar\, Celina\, OH\, United States
CATEGORIES:Sub Shack at Shipyard
GEO:40.556645;-84.628714
END:VEVENT
BEGIN:VEVENT
DTSTART;TZID=America/New_York:20250730T090000
DTEND;TZID=America/New_York:20250730T160000
DTSTAMP:20260423T090126
CREATED:20250701T205307Z
LAST-MODIFIED:20250729T213843Z
UID:21686-1753866000-1753891200@boardwalkvillage.com
SUMMARY:Upper Deck: Golf Bays Open!
DESCRIPTION:To reserve\, \nVisit https://player.eagleclubsystems.online/#/tee-slot?dbname=rush20221215 \nOr call us at 419-776-2028
URL:https://boardwalkvillage.com/tribe-event/upper-deck-golf-bays-open-21/
LOCATION:Upper Deck Sports Bar\, Celina\, OH\, United States
CATEGORIES:Sub Shack at Shipyard
GEO:40.556645;-84.628714
END:VEVENT
BEGIN:VEVENT
DTSTART;TZID=America/New_York:20250729T090000
DTEND;TZID=America/New_York:20250729T160000
DTSTAMP:20260423T090126
CREATED:20250701T205307Z
LAST-MODIFIED:20250728T210748Z
UID:21685-1753779600-1753804800@boardwalkvillage.com
SUMMARY:Upper Deck: Golf Bays Open!
DESCRIPTION:To reserve\, \nVisit https://player.eagleclubsystems.online/#/tee-slot?dbname=rush20221215 \nOr call us at 419-776-2028
URL:https://boardwalkvillage.com/tribe-event/upper-deck-golf-bays-open-20/
LOCATION:Upper Deck Sports Bar\, Celina\, OH\, United States
CATEGORIES:Sub Shack at Shipyard
GEO:40.556645;-84.628714
END:VEVENT
BEGIN:VEVENT
DTSTART;TZID=America/New_York:20250728T090000
DTEND;TZID=America/New_York:20250728T160000
DTSTAMP:20260423T090126
CREATED:20250701T205307Z
LAST-MODIFIED:20250727T210753Z
UID:21684-1753693200-1753718400@boardwalkvillage.com
SUMMARY:Upper Deck: Golf Bays Open!
DESCRIPTION:To reserve\, \nVisit https://player.eagleclubsystems.online/#/tee-slot?dbname=rush20221215 \nOr call us at 419-776-2028
URL:https://boardwalkvillage.com/tribe-event/upper-deck-golf-bays-open-19/
LOCATION:Upper Deck Sports Bar\, Celina\, OH\, United States
CATEGORIES:Sub Shack at Shipyard
GEO:40.556645;-84.628714
END:VEVENT
BEGIN:VEVENT
DTSTART;TZID=America/New_York:20250725T090000
DTEND;TZID=America/New_York:20250725T160000
DTSTAMP:20260423T090126
CREATED:20250701T205307Z
LAST-MODIFIED:20250724T203929Z
UID:21683-1753434000-1753459200@boardwalkvillage.com
SUMMARY:Upper Deck: Golf Bays Open!
DESCRIPTION:To reserve\, \nVisit https://player.eagleclubsystems.online/#/tee-slot?dbname=rush20221215 \nOr call us at 419-776-2028
URL:https://boardwalkvillage.com/tribe-event/upper-deck-golf-bays-open-18/
LOCATION:Upper Deck Sports Bar\, Celina\, OH\, United States
CATEGORIES:Sub Shack at Shipyard
GEO:40.556645;-84.628714
END:VEVENT
BEGIN:VEVENT
DTSTART;TZID=America/New_York:20250724T090000
DTEND;TZID=America/New_York:20250724T160000
DTSTAMP:20260423T090126
CREATED:20250701T205307Z
LAST-MODIFIED:20250723T203840Z
UID:21682-1753347600-1753372800@boardwalkvillage.com
SUMMARY:Upper Deck: Golf Bays Open!
DESCRIPTION:To reserve\, \nVisit https://player.eagleclubsystems.online/#/tee-slot?dbname=rush20221215 \nOr call us at 419-776-2028
URL:https://boardwalkvillage.com/tribe-event/upper-deck-golf-bays-open-17/
LOCATION:Upper Deck Sports Bar\, Celina\, OH\, United States
CATEGORIES:Sub Shack at Shipyard
GEO:40.556645;-84.628714
END:VEVENT
BEGIN:VEVENT
DTSTART;TZID=America/New_York:20250723T090000
DTEND;TZID=America/New_York:20250723T160000
DTSTAMP:20260423T090126
CREATED:20250701T205306Z
LAST-MODIFIED:20250722T203846Z
UID:21681-1753261200-1753286400@boardwalkvillage.com
SUMMARY:Upper Deck: Golf Bays Open!
DESCRIPTION:To reserve\, \nVisit https://player.eagleclubsystems.online/#/tee-slot?dbname=rush20221215 \nOr call us at 419-776-2028
URL:https://boardwalkvillage.com/tribe-event/upper-deck-golf-bays-open-16/
LOCATION:Upper Deck Sports Bar\, Celina\, OH\, United States
CATEGORIES:Sub Shack at Shipyard
GEO:40.556645;-84.628714
END:VEVENT
BEGIN:VEVENT
DTSTART;TZID=America/New_York:20250722T090000
DTEND;TZID=America/New_York:20250722T160000
DTSTAMP:20260423T090126
CREATED:20250701T205306Z
LAST-MODIFIED:20250721T200758Z
UID:21680-1753174800-1753200000@boardwalkvillage.com
SUMMARY:Upper Deck: Golf Bays Open!
DESCRIPTION:To reserve\, \nVisit https://player.eagleclubsystems.online/#/tee-slot?dbname=rush20221215 \nOr call us at 419-776-2028
URL:https://boardwalkvillage.com/tribe-event/upper-deck-golf-bays-open-15/
LOCATION:Upper Deck Sports Bar\, Celina\, OH\, United States
CATEGORIES:Sub Shack at Shipyard
GEO:40.556645;-84.628714
END:VEVENT
BEGIN:VEVENT
DTSTART;TZID=America/New_York:20250721T090000
DTEND;TZID=America/New_York:20250721T160000
DTSTAMP:20260423T090126
CREATED:20250701T205306Z
LAST-MODIFIED:20250720T201041Z
UID:21679-1753088400-1753113600@boardwalkvillage.com
SUMMARY:Upper Deck: Golf Bays Open!
DESCRIPTION:To reserve\, \nVisit https://player.eagleclubsystems.online/#/tee-slot?dbname=rush20221215 \nOr call us at 419-776-2028
URL:https://boardwalkvillage.com/tribe-event/upper-deck-golf-bays-open-14/
LOCATION:Upper Deck Sports Bar\, Celina\, OH\, United States
CATEGORIES:Sub Shack at Shipyard
GEO:40.556645;-84.628714
END:VEVENT
END:VCALENDAR